BEGIN:VCALENDAR
VERSION:2.0
PRODID:-//wp-events-plugin.com//7.2.3.1//EN
BEGIN:VEVENT
UID:130@opensource.org
DTSTART:20260421T000000Z
DTEND:20260423T000000Z
DTSTAMP:20260108T153810Z
URL:https://opensource.org/events/open-community-experience
SUMMARY:Open Community Experience
DESCRIPTION:The Open Community Experience brings together developers\, rese
 archers\, industry leaders\, and open -source communities for three days o
 f collaboration and innovation.\n\nIn 2026\, OCX will take place 21–23 A
 pril in Brussels. The conference combines the Main OCX tracks with five co
 -located events (Tooling\, AI\, Automotive\, Compliance\, and Research).
ATTACH;FMTTYPE=image/jpeg:https://i0.wp.com/opensource.org/wp-content/uplo
 ads/2026/01/ocx26.jpg?fit=311%2C162&quality=89&ssl=1
LOCATION:https://www.ocxconf.org/event/2026/call-for-proposals
END:VEVENT
END:VCALENDAR