BEGIN:VCALENDAR
VERSION:2.0
PRODID:-//wp-events-plugin.com//7.2.3.1//EN
BEGIN:VEVENT
UID:111@opensource.org
DTSTART;VALUE=DATE:20250923
DTEND;VALUE=DATE:20250928
DTSTAMP:20250530T190111Z
URL:https://opensource.org/events/nerdearla
SUMMARY:Nerdearla
DESCRIPTION:Nerdearla is a social experience\, both in person and streaming
 . Coworking spaces\, talks\, workshops\, and many opportunities for networ
 king and learning from industry leaders.\n\nSince 2014\, we have organized
  a 100% free\, world-class event in Latin America with high-quality conten
 t in science and technology.
ATTACH;FMTTYPE=image/jpeg:https://i0.wp.com/opensource.org/wp-content/uplo
 ads/2025/05/nerdearla_25.jpg?fit=1280%2C720&quality=89&ssl=1
LOCATION:https://nerdear.la/en/
END:VEVENT
END:VCALENDAR