BEGIN:VCALENDAR
VERSION:2.0
PRODID:-//wp-events-plugin.com//7.2.3.1//EN
BEGIN:VEVENT
UID:113@opensource.org
DTSTART;VALUE=DATE:20251012
DTEND;VALUE=DATE:20251015
DTSTAMP:20250530T191201Z
URL:https://opensource.org/events/all-things-open
SUMMARY:All Things Open
DESCRIPTION:All Things Open is the largest open source / web / tech confer
 ence on the US east coast. More than anything\, ATO is an educational conf
 erence where attendees learn about new technologies and topics\, and it’
 s always been that way. The goal is for attendees to leave having learned 
 something or been made aware of something new.
ATTACH;FMTTYPE=image/jpeg:https://i0.wp.com/opensource.org/wp-content/uplo
 ads/2025/05/2025_ATO.jpg?fit=1200%2C628&quality=89&ssl=1
LOCATION:https://2025.allthingsopen.org/
END:VEVENT
END:VCALENDAR